BEGIN:VCALENDAR
VERSION:2.0
PRODID:-//Squarespace Inc/Squarespace 6//v6//EN
BEGIN:VEVENT
UID:59bfaeed2278e7efe85f0942@squarespace.com
DTSTAMP:20170918T115222Z
DTSTART:20171006T220000Z
DTEND:20171006T230000Z
SUMMARY:Oktoberfest at The Flying Moa
GEO:-36.891868;174.83616
LOCATION:The flying moa\, Lunn Avenue\, Auckland\, Auckland\, New Zealand
END:VEVENT
END:VCALENDAR
