BEGIN:VCALENDAR
VERSION:2.0
PRODID:-//Squarespace Inc/Squarespace 6//v6//EN
BEGIN:VEVENT
UID:598951536f4ca3d6c4bb5ecc@squarespace.com
DTSTAMP:20170808T210808Z
DTSTART:20170821T070000Z
DTEND:20170821T083000Z
SUMMARY:Pub Quiz - Monday Or Tuesdays 7pm. 
GEO:-36.887593;174.843473
LOCATION:Speights Ale House\, Stonefields Avenue\, Auckland\, Auckland\, 10
 72\, New Zealand
END:VEVENT
END:VCALENDAR
