BEGIN:VCALENDAR
VERSION:2.0
PRODID:-//Squarespace Inc/Squarespace 6//v6//EN
BEGIN:VEVENT
UID:597d5f0d2e69cfc3217d6eda@squarespace.com
DTSTAMP:20170801T061755Z
DTSTART:20170805T230000Z
DTEND:20170806T020000Z
SUMMARY:Ceilidh - Sorry\, Tickets No Longer Available
GEO:-36.888919;174.841167
LOCATION:Stonefields School Hall\, Tihi Street\, Auckland\, Auckland\, 1072
 \, New Zealand
END:VEVENT
END:VCALENDAR
