BEGIN:VCALENDAR
VERSION:2.0
PRODID:-//Squarespace Inc/Squarespace 6//v6//EN
BEGIN:VEVENT
UID:59bfb12d18b27d5fd87c67fe@squarespace.com
DTSTAMP:20170918T115027Z
DTSTART:20171001T000000Z
DTEND:20171001T030000Z
SUMMARY:Festival Italiano
GEO:-36.868316;174.777144
LOCATION:Osborne Street\, Auckland\, Auckland\, 1023\, New Zealand
END:VEVENT
END:VCALENDAR
